BEGIN:VCALENDAR
PRODID:-//Date iCal//NONSGML Brightspot CMS//
VERSION:2.0
METHOD:PUBLISH
BEGIN:VEVENT
DTSTAMP:20260424T003453Z
SUMMARY:Cardiac Emergency Response Plans: What Schools Need Now
CREATED:20260511T180000Z
LAST-MODIFIED:20260422T135522Z
DTSTART:20260511T140000
DTEND:20260511T150000
SUMMARY:Cardiac Emergency Response Plans: What Schools Need Now
DESCRIPTION:Sudden cardiac arrest can happen at school. Learn why CERPs matter\, what’srequired\, and how districts can prepare to save lives.
URL:https://www.edweek.org/events/webinar/cardiac-emergency-response-plans-what-schools-need-now
END:VEVENT
END:VCALENDAR
